BEGIN:VCALENDAR
VERSION:2.0
PRODID:-//StartSmart HW//Events//NL
CALSCALE:GREGORIAN
METHOD:PUBLISH
BEGIN:VTIMEZONE
TZID:Europe/Amsterdam
BEGIN:STANDARD
DTSTART:19701025T030000
RRULE:FREQ=YEARLY;BYDAY=-1SU;BYMONTH=10
TZOFFSETFROM:+0200
TZOFFSETTO:+0100
TZNAME:CET
END:STANDARD
BEGIN:DAYLIGHT
DTSTART:19700329T020000
RRULE:FREQ=YEARLY;BYDAY=-1SU;BYMONTH=3
TZOFFSETFROM:+0100
TZOFFSETTO:+0200
TZNAME:CEST
END:DAYLIGHT
END:VTIMEZONE
BEGIN:VEVENT
UID:b8bc15a7-e14f-43f4-a754-c023f05099ec@startsmarthw.nl
DTSTAMP:20260419T133506Z
DTSTART;TZID=Europe/Amsterdam:20260513T190000
DTEND;TZID=Europe/Amsterdam:20260513T213000
SUMMARY:AcademyPlus: De Vitale Ondernemer
DESCRIPTION:StartersAcademy\nMeer info: https://start-smarthw.nl/events/academyplus-de-vitale-ondernemer
URL:https://start-smarthw.nl/events/academyplus-de-vitale-ondernemer
END:VEVENT
END:VCALENDAR
